BEGIN:VCALENDAR
VERSION:2.0
PRODID:-//CERN//INDICO//EN
BEGIN:VEVENT
SUMMARY:はじめに
DTSTART;VALUE=DATE-TIME:20250221T040000Z
DTEND;VALUE=DATE-TIME:20250221T040500Z
DTSTAMP;VALUE=DATE-TIME:20260422T202218Z
UID:indico-event-130@indico.iist.nias.ac.jp
DESCRIPTION:https://iist02.grad.nias.ac.jp/event/573/sessions/130/
LOCATION:長崎総合科学大学 17号館2階201講義室
URL:https://iist02.grad.nias.ac.jp/event/573/sessions/130/
END:VEVENT
END:VCALENDAR
