BEGIN:VCALENDAR
VERSION:2.0
PRODID:-//CERN//INDICO//EN
BEGIN:VEVENT
SUMMARY:修士論文発表会(2025年度 修士2年)
DTSTART;VALUE=DATE-TIME:20250221T040000Z
DTEND;VALUE=DATE-TIME:20250221T060000Z
DTSTAMP;VALUE=DATE-TIME:20260422T131528Z
UID:indico-event-573@indico.iist.nias.ac.jp
DESCRIPTION:発表時間：発表20分、質疑5分。\n\nhttps://iist02.g
 rad.nias.ac.jp/event/573/
LOCATION:長崎総合科学大学 17号館2階201講義室
URL:https://iist02.grad.nias.ac.jp/event/573/
END:VEVENT
END:VCALENDAR
