BEGIN:VCALENDAR
VERSION:2.0
PRODID:-//CERN//INDICO//EN
BEGIN:VEVENT
SUMMARY:判定会議、学会賞選定（教員のみ）
DTSTART;VALUE=DATE-TIME:20250221T054500Z
DTEND;VALUE=DATE-TIME:20250221T060000Z
DTSTAMP;VALUE=DATE-TIME:20260422T202625Z
UID:indico-contribution-1767@indico.iist.nias.ac.jp
DESCRIPTION:https://iist02.grad.nias.ac.jp/event/573/contributions/1767/
LOCATION:
URL:https://iist02.grad.nias.ac.jp/event/573/contributions/1767/
END:VEVENT
END:VCALENDAR
