BEGIN:VCALENDAR
VERSION:2.0
PRODID:-//CERN//INDICO//EN
BEGIN:VEVENT
SUMMARY:医療施設の電力予測および運用最適化に関する研
 究
DTSTART;VALUE=DATE-TIME:20250221T052000Z
DTEND;VALUE=DATE-TIME:20250221T054500Z
DTSTAMP;VALUE=DATE-TIME:20260422T202602Z
UID:indico-contribution-1766@indico.iist.nias.ac.jp
DESCRIPTION:Speakers: 稲形 僚也 ()\nhttps://iist02.grad.nias.ac.jp/eve
 nt/573/contributions/1766/
LOCATION:
URL:https://iist02.grad.nias.ac.jp/event/573/contributions/1766/
END:VEVENT
END:VCALENDAR
