BEGIN:VCALENDAR
VERSION:2.0
PRODID:-//CERN//INDICO//EN
BEGIN:VEVENT
SUMMARY:気管内フラッシュ液流入防止アダプターの研究開
 発
DTSTART;VALUE=DATE-TIME:20250221T045500Z
DTEND;VALUE=DATE-TIME:20250221T052000Z
DTSTAMP;VALUE=DATE-TIME:20260422T202502Z
UID:indico-contribution-1765@indico.iist.nias.ac.jp
DESCRIPTION:Speakers: 山下 倖輝 ()\nhttps://iist02.grad.nias.ac.jp/eve
 nt/573/contributions/1765/
LOCATION:
URL:https://iist02.grad.nias.ac.jp/event/573/contributions/1765/
END:VEVENT
END:VCALENDAR
