BEGIN:VCALENDAR
VERSION:2.0
PRODID:-//CERN//INDICO//EN
BEGIN:VEVENT
SUMMARY:高速道路における自動運転車の追い越しのポリシ
 ーに関する研究
DTSTART;VALUE=DATE-TIME:20250221T043000Z
DTEND;VALUE=DATE-TIME:20250221T045500Z
DTSTAMP;VALUE=DATE-TIME:20260422T214904Z
UID:indico-contribution-1764@indico.iist.nias.ac.jp
DESCRIPTION:Speakers: 阮 玉坤 ()\nhttps://iist02.grad.nias.ac.jp/event/
 573/contributions/1764/
LOCATION:
URL:https://iist02.grad.nias.ac.jp/event/573/contributions/1764/
END:VEVENT
END:VCALENDAR
