BEGIN:VCALENDAR
VERSION:2.0
PRODID:-//CERN//INDICO//EN
BEGIN:VEVENT
SUMMARY:信号機のない交差点の自動運転車通過時の運転決
 定に関する研究
DTSTART;VALUE=DATE-TIME:20250221T040500Z
DTEND;VALUE=DATE-TIME:20250221T043000Z
DTSTAMP;VALUE=DATE-TIME:20260422T215037Z
UID:indico-contribution-1763@indico.iist.nias.ac.jp
DESCRIPTION:Speakers: 黄 昶 ()\nhttps://iist02.grad.nias.ac.jp/event/573
 /contributions/1763/
LOCATION:
URL:https://iist02.grad.nias.ac.jp/event/573/contributions/1763/
END:VEVENT
END:VCALENDAR
