BEGIN:VCALENDAR
VERSION:2.0
PRODID:-//CERN//INDICO//EN
BEGIN:VEVENT
SUMMARY:2nd International Workshop on Forward Physics and Forward Calorime
 ter Upgrade in ALICE
DTSTART;VALUE=DATE-TIME:20230314T060000Z
DTEND;VALUE=DATE-TIME:20230314T080000Z
DTSTAMP;VALUE=DATE-TIME:20260422T144025Z
UID:indico-event-500@indico.iist.nias.ac.jp
DESCRIPTION:Slides presented in \n\n"2nd International Workshop on Forwar
 d Physics and Forward Calorimeter Upgrade in ALICE"\, Mar. 13 - 15\, 2023
 \, at University of Tsukuba\, Japan.\n\nWorkshop URL: https://indico.cern
 .ch/event/1235107/\n\n \n\nhttps://iist02.grad.nias.ac.jp/event/500/
LOCATION:
URL:https://iist02.grad.nias.ac.jp/event/500/
END:VEVENT
END:VCALENDAR
