BEGIN:VCALENDAR
VERSION:2.0
PRODID:-//CERN//INDICO//EN
BEGIN:VEVENT
SUMMARY:temporary place
DTSTART;VALUE=DATE-TIME:20221020T020000Z
DTEND;VALUE=DATE-TIME:20221020T040000Z
DTSTAMP;VALUE=DATE-TIME:20260422T171419Z
UID:indico-event-464@indico.iist.nias.ac.jp
DESCRIPTION:https://iist02.grad.nias.ac.jp/event/464/
LOCATION:
URL:https://iist02.grad.nias.ac.jp/event/464/
END:VEVENT
END:VCALENDAR
