BEGIN:VCALENDAR
VERSION:2.0
PRODID:-//CERN//INDICO//EN
BEGIN:VEVENT
SUMMARY:O.C.
DTSTART;VALUE=DATE-TIME:20220925T010000Z
DTEND;VALUE=DATE-TIME:20220925T030000Z
DTSTAMP;VALUE=DATE-TIME:20260422T213116Z
UID:indico-event-455@indico.iist.nias.ac.jp
DESCRIPTION:https://iist02.grad.nias.ac.jp/event/455/
LOCATION:
URL:https://iist02.grad.nias.ac.jp/event/455/
END:VEVENT
END:VCALENDAR
