BEGIN:VCALENDAR
VERSION:2.0
PRODID:-//CERN//INDICO//EN
BEGIN:VEVENT
SUMMARY:第５回「物質階層を横断する会」～ハドロン・原
 子核・原子・分子合同ミーティング：軽いグザイハイ
 パー核の構造と生成
DTSTART;VALUE=DATE-TIME:20190808T050000Z
DTEND;VALUE=DATE-TIME:20190808T070000Z
DTSTAMP;VALUE=DATE-TIME:20260422T171428Z
UID:indico-event-193@indico.iist.nias.ac.jp
DESCRIPTION:https://iist02.grad.nias.ac.jp/event/193/
LOCATION:理研
URL:https://iist02.grad.nias.ac.jp/event/193/
END:VEVENT
END:VCALENDAR
