BEGIN:VCALENDAR
VERSION:2.0
PRODID:-//CERN//INDICO//EN
BEGIN:VEVENT
SUMMARY:LHC-ALICEにおけるエキゾチック系探索の現状と今後
 の可能性
DTSTART;VALUE=DATE-TIME:20190808T050000Z
DTEND;VALUE=DATE-TIME:20190808T052000Z
DTSTAMP;VALUE=DATE-TIME:20260423T013525Z
UID:indico-contribution-548@indico.iist.nias.ac.jp
DESCRIPTION:Speakers: Ken OYAMA ()\n理研ワークショップにおけ
 る発表資料\n\nhttps://iist02.grad.nias.ac.jp/event/193/contributions/
 548/
LOCATION:理研
URL:https://iist02.grad.nias.ac.jp/event/193/contributions/548/
END:VEVENT
END:VCALENDAR
