BEGIN:VCALENDAR
VERSION:2.0
PRODID:-//CERN//INDICO//EN
BEGIN:VEVENT
SUMMARY:HEART2019
DTSTART;VALUE=DATE-TIME:20190607T004000Z
DTEND;VALUE=DATE-TIME:20190607T013000Z
DTSTAMP;VALUE=DATE-TIME:20260422T201336Z
UID:indico-event-171@indico.iist.nias.ac.jp
DESCRIPTION:https://iist02.grad.nias.ac.jp/event/171/
LOCATION:
URL:https://iist02.grad.nias.ac.jp/event/171/
END:VEVENT
END:VCALENDAR
