BEGIN:VCALENDAR
VERSION:2.0
PRODID:-//CERN//INDICO//EN
BEGIN:VEVENT
SUMMARY:FPGA accelerated HPC for Experimental Physics
DTSTART;VALUE=DATE-TIME:20190607T004000Z
DTEND;VALUE=DATE-TIME:20190607T010000Z
DTSTAMP;VALUE=DATE-TIME:20260422T230635Z
UID:indico-contribution-468@indico.iist.nias.ac.jp
DESCRIPTION:Speakers: Ken OYAMA ()\nHEART Symposium 発表資料\nhttp://s
 lab.cis.nagasaki-u.ac.jp/heart2019/program.html\n\nhttps://iist02.grad.nia
 s.ac.jp/event/171/contributions/468/
LOCATION:
URL:https://iist02.grad.nias.ac.jp/event/171/contributions/468/
END:VEVENT
END:VCALENDAR
