BEGIN:VCALENDAR
VERSION:2.0
PRODID:-//CERN//INDICO//EN
BEGIN:VEVENT
SUMMARY:JPS Meeting
DTSTART;VALUE=DATE-TIME:20190316T043000Z
DTEND;VALUE=DATE-TIME:20190316T080000Z
DTSTAMP;VALUE=DATE-TIME:20260422T184734Z
UID:indico-event-142@indico.iist.nias.ac.jp
DESCRIPTION:https://iist02.grad.nias.ac.jp/event/142/
LOCATION:九州大学伊都キャンパス
URL:https://iist02.grad.nias.ac.jp/event/142/
END:VEVENT
END:VCALENDAR
