BEGIN:VCALENDAR
VERSION:2.0
PRODID:-//CERN//INDICO//EN
BEGIN:VEVENT
SUMMARY:LHC Run3 に向けた高度化後 ALICE TPC の連続読み出し
 型データ収集システム
DTSTART;VALUE=DATE-TIME:20190316T043000Z
DTEND;VALUE=DATE-TIME:20190316T044500Z
DTSTAMP;VALUE=DATE-TIME:20260422T214936Z
UID:indico-contribution-371@indico.iist.nias.ac.jp
DESCRIPTION:Speakers: Ken OYAMA ()\n学会発表に使用したスライ
 ドです。\n\nhttps://iist02.grad.nias.ac.jp/event/142/contributions/371
 /
LOCATION:九州大学伊都キャンパス
URL:https://iist02.grad.nias.ac.jp/event/142/contributions/371/
END:VEVENT
END:VCALENDAR
