BEGIN:VCALENDAR
VERSION:2.0
PRODID:-//CERN//INDICO//EN
BEGIN:VEVENT
SUMMARY:新技術創成研究所 国際セミナー: 世界で活躍する
 技術者育成を目指して
DTSTART;VALUE=DATE-TIME:20170321T060000Z
DTEND;VALUE=DATE-TIME:20170321T080000Z
DTSTAMP;VALUE=DATE-TIME:20260422T225443Z
UID:indico-event-141@indico.iist.nias.ac.jp
DESCRIPTION:このイベントの情報はこちらに移動しました:
  https://indico.iist.nias.ac.jp/event/140/\n\nhttps://iist02.grad.nias.ac
 .jp/event/141/
LOCATION:
URL:https://iist02.grad.nias.ac.jp/event/141/
END:VEVENT
END:VCALENDAR
