BEGIN:VCALENDAR
VERSION:2.0
PRODID:-//CERN//INDICO//EN
BEGIN:VEVENT
SUMMARY:新技術創成研究所・公開講演会 (基礎科学部門設
 立記念シンポジウム)
DTSTART;VALUE=DATE-TIME:20141221T050000Z
DTEND;VALUE=DATE-TIME:20141221T070000Z
DTSTAMP;VALUE=DATE-TIME:20260422T213645Z
UID:indico-event-139@indico.iist.nias.ac.jp
DESCRIPTION:このイベントの情報はこちらに移動しました:
  https://indico.iist.nias.ac.jp/event/137/\n\nhttps://iist02.grad.nias.ac
 .jp/event/139/
LOCATION:
URL:https://iist02.grad.nias.ac.jp/event/139/
END:VEVENT
END:VCALENDAR
