BEGIN:VCALENDAR
VERSION:2.0
PRODID:-//CERN//INDICO//EN
BEGIN:VEVENT
SUMMARY:新技術創成研究所・公開講演会「２１世紀の科学
 技術～重力波～」
DTSTART;VALUE=DATE-TIME:20181027T040000Z
DTEND;VALUE=DATE-TIME:20190323T070000Z
DTSTAMP;VALUE=DATE-TIME:20260422T184826Z
UID:indico-event-138@indico.iist.nias.ac.jp
DESCRIPTION:このイベントの情報はこちらに移動しました:
  https://indico.iist.nias.ac.jp/event/71/\n\nhttps://iist02.grad.nias.ac.
 jp/event/138/
LOCATION:
URL:https://iist02.grad.nias.ac.jp/event/138/
END:VEVENT
END:VCALENDAR
