BEGIN:VCALENDAR
VERSION:2.0
PRODID:-//CERN//INDICO//EN
BEGIN:VEVENT
SUMMARY:諫早スマートシティ構想 ～長崎県央を人の集ま
 る街に～
DTSTART;VALUE=DATE-TIME:20131212T050000Z
DTEND;VALUE=DATE-TIME:20131212T052000Z
DTSTAMP;VALUE=DATE-TIME:20260422T144516Z
UID:indico-contribution-136-345@indico.iist.nias.ac.jp
DESCRIPTION:Speakers: Yoshito TANAKA ()\nhttps://iist02.grad.nias.ac.jp/ev
 ent/136/contributions/345/
LOCATION:
URL:https://iist02.grad.nias.ac.jp/event/136/contributions/345/
END:VEVENT
END:VCALENDAR
