BEGIN:VCALENDAR
VERSION:2.0
PRODID:-//CERN//INDICO//EN
BEGIN:VEVENT
SUMMARY:諫早スマートタウン構想研究会 研究報告
DTSTART;VALUE=DATE-TIME:20131212T050000Z
DTEND;VALUE=DATE-TIME:20131212T070000Z
DTSTAMP;VALUE=DATE-TIME:20260422T144014Z
UID:indico-event-136@indico.iist.nias.ac.jp
DESCRIPTION:https://iist02.grad.nias.ac.jp/event/136/
LOCATION:
URL:https://iist02.grad.nias.ac.jp/event/136/
END:VEVENT
END:VCALENDAR
