BEGIN:VCALENDAR
VERSION:2.0
PRODID:-//CERN//INDICO//EN
BEGIN:VEVENT
SUMMARY:第3回「緑の知の拠点事業」シンポジウム＆成果
 報告会
DTSTART;VALUE=DATE-TIME:20140314T050000Z
DTEND;VALUE=DATE-TIME:20140314T070000Z
DTSTAMP;VALUE=DATE-TIME:20260422T155518Z
UID:indico-event-135@indico.iist.nias.ac.jp
DESCRIPTION:https://iist02.grad.nias.ac.jp/event/135/
LOCATION:ベストウェスタンプレミアホテル
URL:https://iist02.grad.nias.ac.jp/event/135/
END:VEVENT
END:VCALENDAR
