BEGIN:VCALENDAR
VERSION:2.0
PRODID:-//CERN//INDICO//EN
BEGIN:VEVENT
SUMMARY:緑の知の拠点事業の研究成果と概要について
DTSTART;VALUE=DATE-TIME:20140314T050000Z
DTEND;VALUE=DATE-TIME:20140314T052000Z
DTSTAMP;VALUE=DATE-TIME:20260422T190617Z
UID:indico-contribution-344@indico.iist.nias.ac.jp
DESCRIPTION:Speakers: Yoshito TANAKA ()\n緑の知の概要とデモ\n\nht
 tps://iist02.grad.nias.ac.jp/event/135/contributions/344/
LOCATION:ベストウェスタンプレミアホテル
URL:https://iist02.grad.nias.ac.jp/event/135/contributions/344/
END:VEVENT
END:VCALENDAR
