BEGIN:VCALENDAR
VERSION:2.0
PRODID:-//CERN//INDICO//EN
BEGIN:VEVENT
SUMMARY:東長崎エコタウン構想の現状
DTSTART;VALUE=DATE-TIME:20140822T050000Z
DTEND;VALUE=DATE-TIME:20140822T052000Z
DTSTAMP;VALUE=DATE-TIME:20260422T144536Z
UID:indico-contribution-134-343@indico.iist.nias.ac.jp
DESCRIPTION:Speakers: Yoshito TANAKA ()\nhttps://iist02.grad.nias.ac.jp/ev
 ent/134/contributions/343/
LOCATION:
URL:https://iist02.grad.nias.ac.jp/event/134/contributions/343/
END:VEVENT
END:VCALENDAR
