BEGIN:VCALENDAR
VERSION:2.0
PRODID:-//CERN//INDICO//EN
BEGIN:VEVENT
SUMMARY:緑の知の拠点事業総括
DTSTART;VALUE=DATE-TIME:20140301T050000Z
DTEND;VALUE=DATE-TIME:20140301T052000Z
DTSTAMP;VALUE=DATE-TIME:20260422T203538Z
UID:indico-contribution-342@indico.iist.nias.ac.jp
DESCRIPTION:Speakers: Yoshito TANAKA ()\n長崎総合科学大学新技術
 創成研究所所報 2014.03 掲載版\n\nhttps://iist02.grad.nias.ac.jp/
 event/133/contributions/342/
LOCATION:
URL:https://iist02.grad.nias.ac.jp/event/133/contributions/342/
END:VEVENT
END:VCALENDAR
