BEGIN:VCALENDAR
VERSION:2.0
PRODID:-//CERN//INDICO//EN
BEGIN:VEVENT
SUMMARY:ながさきビッグデータ研究会 研究報告 第一報
DTSTART;VALUE=DATE-TIME:20150601T050000Z
DTEND;VALUE=DATE-TIME:20150601T070000Z
DTSTAMP;VALUE=DATE-TIME:20260422T143921Z
UID:indico-event-132@indico.iist.nias.ac.jp
DESCRIPTION:「ながさきビッグデータ研究会」は、長崎県
 異業種連携交流会を中心とした活動であった「ビッグ
 データ研究会」を長崎全体に広げ具体的なビジネスに
 発展させることを目的として、長崎総合科学大学新技
 術創成研究所が中心となり、県内の方々への声かけを
 して始まったものです。\n\n第一弾として「観光に焦点
 を当て、ビッグデータを活用した地方創生を実現する
 にはどうしたらよいか」をメインテーマとし、長崎県
 内外の活動例を含めて講演という形で話をして頂き、
 研究を行ってきました。\n\nこの報告書は、地元で活躍
 している事業者の声や研究者の提案、中央で活躍して
 いる事業者からの提案等を活発な議論を交えながら検
 討し、取り纏めたものです。\n\nhttps://iist02.grad.nias.ac.jp/
 event/132/
LOCATION:
URL:https://iist02.grad.nias.ac.jp/event/132/
END:VEVENT
END:VCALENDAR
