BEGIN:VCALENDAR
VERSION:2.0
PRODID:-//CERN//INDICO//EN
BEGIN:VEVENT
SUMMARY:ながさき・観光スマートシティ構想 〜ビッグ
 データによる地方創生を目指して〜
DTSTART;VALUE=DATE-TIME:20150601T050000Z
DTEND;VALUE=DATE-TIME:20150601T052000Z
DTSTAMP;VALUE=DATE-TIME:20260422T202525Z
UID:indico-contribution-341@indico.iist.nias.ac.jp
DESCRIPTION:ながさきビッグデータ研究会 報告書編集委員\
 n  長崎総合科学大学 江藤春日、大山健、菊森淳文、杉
 原敏夫、田中義人\n  長崎大学 小林透\n  東京大学 稲田
 修一\n\nhttps://iist02.grad.nias.ac.jp/event/132/contributions/341/
LOCATION:
URL:https://iist02.grad.nias.ac.jp/event/132/contributions/341/
END:VEVENT
END:VCALENDAR
