BEGIN:VCALENDAR
VERSION:2.0
PRODID:-//CERN//INDICO//EN
BEGIN:VEVENT
SUMMARY:新技術創成研究所の取り組み
DTSTART;VALUE=DATE-TIME:20160221T050000Z
DTEND;VALUE=DATE-TIME:20160221T052000Z
DTSTAMP;VALUE=DATE-TIME:20260423T001940Z
UID:indico-contribution-131-340@indico.iist.nias.ac.jp
DESCRIPTION:Speakers: Yoshito TANAKA ()\nhttps://iist02.grad.nias.ac.jp/ev
 ent/131/contributions/340/
LOCATION:
URL:https://iist02.grad.nias.ac.jp/event/131/contributions/340/
END:VEVENT
END:VCALENDAR
