BEGIN:VCALENDAR
VERSION:2.0
PRODID:-//CERN//INDICO//EN
BEGIN:VEVENT
SUMMARY:新技術創成研究所Webページ新設記念資料
DTSTART;VALUE=DATE-TIME:20160221T050000Z
DTEND;VALUE=DATE-TIME:20160221T090000Z
DTSTAMP;VALUE=DATE-TIME:20260423T001528Z
UID:indico-event-131@indico.iist.nias.ac.jp
DESCRIPTION:新技術創成研究所のWebページ新設に伴い、田
 中所長による紹介スライドを設置しました。\n\nhttps://ii
 st02.grad.nias.ac.jp/event/131/
LOCATION:
URL:https://iist02.grad.nias.ac.jp/event/131/
END:VEVENT
END:VCALENDAR
